BEGIN:VCALENDAR
VERSION:2.0
PRODID:-//wp-events-plugin.com//7.2.3.1//EN
TZID:Europe/Berlin
X-WR-TIMEZONE:Europe/Berlin
BEGIN:VEVENT
UID:4@neuhaeuselerwichtel.de
DTSTART;TZID=Europe/Berlin;VALUE=DATE:20231007
DTEND;TZID=Europe/Berlin;VALUE=DATE:20231008
DTSTAMP:20231122T230602Z
URL:https://www.neuhaeuselerwichtel.de/events/maedelsabend-flohmarkt-von-f
 rauen-fuer-frauen/
SUMMARY:Mädelsabend Flohmarkt von Frauen für Frauen
DESCRIPTION:
END:VEVENT
BEGIN:VTIMEZONE
TZID:Europe/Berlin
X-LIC-LOCATION:Europe/Berlin
BEGIN:DAYLIGHT
DTSTART:20230326T030000
TZOFFSETFROM:+0100
TZOFFSETTO:+0200
TZNAME:CEST
END:DAYLIGHT
END:VTIMEZONE
END:VCALENDAR